BEGIN:VCALENDAR
VERSION:2.0
PRODID:-//Solent Gay Men's Chorus//sgmc.org.uk//
BEGIN:VEVENT
SUMMARY:People's Pride Southampton 2022
DTSTART:20220612T123000
DTEND:20220612T130000
DTSTAMP:20260421T144711
UID:202206121230-39-peoples-pride-southampton-2022
DESCRIPTION:We're performing on the second day of the inaugural People's P
 ride Southampton!\n\nhttps://sgmc.org.uk/event/peoples-pride-southampton-2
 022
LOCATION:Palmerstone Park\, Palmerstone Road\, Southampton\, Hampshire\, S
 O14 1ND
ORGANIZER:Solent Gay Men's Chorus
END:VEVENT
END:VCALENDAR
